BEGIN:VCALENDAR
VERSION:2.0
PRODID:-//weiberXXang//NONSGML kigkonsult.se iCalcreator 2.41.92//
CALSCALE:GREGORIAN
METHOD:PUBLISH
UID:37326436-3833-4339-a433-613935326437
X-WR-CALNAME:iCagenda
X-WR-CALDESC:Event Management Extension for Joomla!
X-WR-RELCALID:3E26604A-50F4-4449-8B3E-E4F4932D05B5
X-WR-TIMEZONE:Europe/Berlin
BEGIN:VTIMEZONE
TZID:Europe/Berlin
TZUNTIL:20230326T010000Z
BEGIN:STANDARD
TZNAME:CET
DTSTART:20201025T030000
TZOFFSETFROM:+0200
TZOFFSETTO:+0100
RDATE:20211031T030000
RDATE:20221030T030000
END:STANDARD
BEGIN:DAYLIGHT
TZNAME:CEST
DTSTART:20210328T020000
TZOFFSETFROM:+0100
TZOFFSETTO:+0200
RDATE:20220327T020000
END:DAYLIGHT
END:VTIMEZONE
BEGIN:VEVENT
UID:31656334-6432-4434-a362-626365313235
DTSTAMP:20260424T145938Z
CATEGORIES:Konzert
CLASS:PUBLIC
DESCRIPTION;ALTREP="CID:<FFFF__=0ABBE548DFE235B58f9e8a93d@coffeebean.com>":
 {gallery}hospiz2021{/gallery}
DTSTART:20210624T170000Z
DTEND:20210624T170000Z
GEO:00;0
LOCATION:Hospiz Ulm
ORGANIZER:
SEQUENCE:1
SUMMARY:Hospiz Ulm
TRANSP:OPAQUE
URL:http://www.weiberxxang.de/index.php/archives/38-hospiz-ulm-3/2021-06-24
 -19-00
END:VEVENT
END:VCALENDAR
