BEGIN:VCALENDAR
VERSION:2.0
PRODID:-//weiberXXang//NONSGML kigkonsult.se iCalcreator 2.41.92//
CALSCALE:GREGORIAN
METHOD:PUBLISH
UID:62376462-3134-4961-b964-643165323965
X-WR-CALNAME:iCagenda
X-WR-CALDESC:Event Management Extension for Joomla!
X-WR-RELCALID:3E26604A-50F4-4449-8B3E-E4F4932D05B5
X-WR-TIMEZONE:Europe/Berlin
BEGIN:VTIMEZONE
TZID:Europe/Berlin
TZUNTIL:20191027T010000Z
BEGIN:STANDARD
TZNAME:CET
DTSTART:20171029T030000
TZOFFSETFROM:+0200
TZOFFSETTO:+0100
RDATE:20181028T030000
END:STANDARD
BEGIN:DAYLIGHT
TZNAME:CEST
DTSTART:20170326T020000
TZOFFSETFROM:+0100
TZOFFSETTO:+0200
RDATE:20180325T020000
RDATE:20190331T020000
END:DAYLIGHT
END:VTIMEZONE
BEGIN:VEVENT
UID:38393533-3134-4636-b866-623837306138
DTSTAMP:20260424T150045Z
CATEGORIES:Auftritt
CLASS:PUBLIC
DESCRIPTION;ALTREP="CID:<FFFF__=0ABBE548DFE235B58f9e8a93d@coffeebean.com>":
 {gallery}dgbfrauen2018{/gallery}
DTSTART:20180224T100000Z
DTEND:20180224T100000Z
GEO:+48.77895;+9.17486
LOCATION:Willi-Bleicher-Haus
ORGANIZER:
SEQUENCE:1
SUMMARY:DGB-Arbeitnehmerinnen-Empfang
TRANSP:OPAQUE
URL:http://www.weiberxxang.de/index.php/archives/30-dgb-arbeitnehmerinnen-e
 mpfang/2018-02-24-11-00
END:VEVENT
END:VCALENDAR
