BEGIN:VCALENDAR
VERSION:2.0
PRODID:-//weiberXXang//NONSGML kigkonsult.se iCalcreator 2.41.92//
CALSCALE:GREGORIAN
METHOD:PUBLISH
UID:64326661-3330-4437-b133-393930303636
X-WR-CALNAME:iCagenda
X-WR-CALDESC:Event Management Extension for Joomla!
X-WR-RELCALID:3E26604A-50F4-4449-8B3E-E4F4932D05B5
X-WR-TIMEZONE:Europe/Berlin
BEGIN:VTIMEZONE
TZID:Europe/Berlin
TZUNTIL:20181028T010000Z
BEGIN:STANDARD
TZNAME:CET
DTSTART:20161030T030000
TZOFFSETFROM:+0200
TZOFFSETTO:+0100
RDATE:20171029T030000
END:STANDARD
BEGIN:DAYLIGHT
TZNAME:CEST
DTSTART:20160327T020000
TZOFFSETFROM:+0100
TZOFFSETTO:+0200
RDATE:20170326T020000
RDATE:20180325T020000
END:DAYLIGHT
END:VTIMEZONE
BEGIN:VEVENT
UID:39636263-6261-4534-b537-303835666366
DTSTAMP:20260424T165356Z
CATEGORIES:Konzert
CLASS:PUBLIC
DESCRIPTION;ALTREP="CID:<FFFF__=0ABBE548DFE235B58f9e8a93d@coffeebean.com>":
 {gallery}birkenried2016{/gallery}
DTSTART:20161120T130000Z
DTEND:20161120T130000Z
GEO:+48.499088;+10.3077
LOCATION:Kulturgewächshaus Birkenried e.V.
ORGANIZER;CN=:mailto:info@birkenried.de
SEQUENCE:1
SUMMARY:Kulturgewächshaus Birkenried
TRANSP:OPAQUE
URL:http://www.weiberxxang.de/index.php/archives/26-kulturgewaechshaus-birk
 enried/2016-11-20-14-00
END:VEVENT
END:VCALENDAR
