BEGIN:VCALENDAR
VERSION:2.0
PRODID:-//weiberXXang//NONSGML kigkonsult.se iCalcreator 2.41.92//
CALSCALE:GREGORIAN
METHOD:PUBLISH
UID:36383163-6531-4536-b838-663832623136
X-WR-CALNAME:iCagenda
X-WR-CALDESC:Event Management Extension for Joomla!
X-WR-RELCALID:3E26604A-50F4-4449-8B3E-E4F4932D05B5
X-WR-TIMEZONE:Europe/Berlin
BEGIN:VTIMEZONE
TZID:Europe/Berlin
TZUNTIL:20181028T010000Z
BEGIN:STANDARD
TZNAME:CET
DTSTART:20161030T030000
TZOFFSETFROM:+0200
TZOFFSETTO:+0100
RDATE:20171029T030000
END:STANDARD
BEGIN:DAYLIGHT
TZNAME:CEST
DTSTART:20160327T020000
TZOFFSETFROM:+0100
TZOFFSETTO:+0200
RDATE:20170326T020000
RDATE:20180325T020000
END:DAYLIGHT
END:VTIMEZONE
BEGIN:VEVENT
UID:33336361-6664-4132-b334-396130303133
DTSTAMP:20260424T165005Z
CATEGORIES:Konzert
CLASS:PUBLIC
DESCRIPTION;ALTREP="CID:<FFFF__=0ABBE548DFE235B58f9e8a93d@coffeebean.com>":
 {gallery}spielburg2016{/gallery}
DTSTART:20161126T193000Z
DTEND:20161126T193000Z
GEO:+48.414299;+9.92088
LOCATION:Spielburg
ORGANIZER;CN=:mailto:info@spielburg.de
SEQUENCE:1
SUMMARY:Spielburg
TRANSP:OPAQUE
URL:http://www.weiberxxang.de/index.php/archives/25-spielburg/2016-11-26-20
 -30
END:VEVENT
END:VCALENDAR
