BEGIN:VCALENDAR
VERSION:2.0
PRODID:-//weiberXXang//NONSGML kigkonsult.se iCalcreator 2.41.92//
CALSCALE:GREGORIAN
METHOD:PUBLISH
UID:62613463-6639-4337-a536-303661633530
X-WR-CALNAME:iCagenda
X-WR-CALDESC:Event Management Extension for Joomla!
X-WR-RELCALID:3E26604A-50F4-4449-8B3E-E4F4932D05B5
X-WR-TIMEZONE:Europe/Berlin
BEGIN:VTIMEZONE
TZID:Europe/Berlin
TZUNTIL:20150329T010000Z
BEGIN:STANDARD
TZNAME:CET
DTSTART:20121028T030000
TZOFFSETFROM:+0200
TZOFFSETTO:+0100
RDATE:20131027T030000
RDATE:20141026T030000
END:STANDARD
BEGIN:DAYLIGHT
TZNAME:CEST
DTSTART:20130331T020000
TZOFFSETFROM:+0100
TZOFFSETTO:+0200
RDATE:20140330T020000
END:DAYLIGHT
END:VTIMEZONE
BEGIN:VEVENT
UID:62633934-3665-4266-a264-303136626564
DTSTAMP:20260424T165916Z
CATEGORIES:Konzert
CLASS:PUBLIC
DESCRIPTION;ALTREP="CID:<FFFF__=0ABBE548DFE235B58f9e8a93d@coffeebean.com>":
 {gallery}spielburg2013{/gallery}
DTSTART:20130720T220000Z
DTEND:20130720T220000Z
GEO:00;0
LOCATION:Spielburg-Cafe
ORGANIZER:
SEQUENCE:1
SUMMARY:Frühstück im Spielburg-Cafe
TRANSP:OPAQUE
URL:http://www.weiberxxang.de/index.php/archives/2-fruehstueck-im-spielburg
 -cafe/2013-07-21-00-00
END:VEVENT
END:VCALENDAR
