BEGIN:VCALENDAR
VERSION:2.0
PRODID:-//weiberXXang//NONSGML kigkonsult.se iCalcreator 2.41.92//
CALSCALE:GREGORIAN
METHOD:PUBLISH
UID:36303362-3535-4230-b138-343239653133
X-WR-CALNAME:iCagenda
X-WR-CALDESC:Event Management Extension for Joomla!
X-WR-RELCALID:3E26604A-50F4-4449-8B3E-E4F4932D05B5
X-WR-TIMEZONE:Europe/Berlin
BEGIN:VTIMEZONE
TZID:Europe/Berlin
TZUNTIL:20171029T010000Z
BEGIN:STANDARD
TZNAME:CET
DTSTART:20151025T030000
TZOFFSETFROM:+0200
TZOFFSETTO:+0100
RDATE:20161030T030000
END:STANDARD
BEGIN:DAYLIGHT
TZNAME:CEST
DTSTART:20150329T020000
TZOFFSETFROM:+0100
TZOFFSETTO:+0200
RDATE:20160327T020000
RDATE:20170326T020000
END:DAYLIGHT
END:VTIMEZONE
BEGIN:VEVENT
UID:32323664-3336-4137-b232-353331653961
DTSTAMP:20260424T165647Z
CATEGORIES:Konzert
CLASS:PUBLIC
DESCRIPTION;ALTREP="CID:<FFFF__=0ABBE548DFE235B58f9e8a93d@coffeebean.com>":
 {gallery}aktion100000_2016{/gallery}
DTSTART:20160109T190000Z
DTEND:20160109T190000Z
GEO:+48.402393;+9.995762
LOCATION:SWP-Pressehaus\, Galerie
ORGANIZER:
SEQUENCE:1
SUMMARY:Aktion 100000
TRANSP:OPAQUE
URL:http://www.weiberxxang.de/index.php/archives/19-aktion-100000/2016-01-0
 9-20-00
END:VEVENT
END:VCALENDAR
