BEGIN:VCALENDAR
VERSION:2.0
PRODID:-//weiberXXang//NONSGML kigkonsult.se iCalcreator 2.41.92//
CALSCALE:GREGORIAN
METHOD:PUBLISH
UID:64336134-3666-4534-a433-323062373266
X-WR-CALNAME:iCagenda
X-WR-CALDESC:Event Management Extension for Joomla!
X-WR-RELCALID:3E26604A-50F4-4449-8B3E-E4F4932D05B5
X-WR-TIMEZONE:Europe/Berlin
BEGIN:VTIMEZONE
TZID:Europe/Berlin
TZUNTIL:20101031T010000Z
BEGIN:STANDARD
TZNAME:CET
DTSTART:20081026T030000
TZOFFSETFROM:+0200
TZOFFSETTO:+0100
RDATE:20091025T030000
END:STANDARD
BEGIN:DAYLIGHT
TZNAME:CEST
DTSTART:20090329T020000
TZOFFSETFROM:+0100
TZOFFSETTO:+0200
RDATE:20100328T020000
END:DAYLIGHT
END:VTIMEZONE
BEGIN:VEVENT
UID:61373364-6364-4161-b138-393364653664
DTSTAMP:20260424T165448Z
CATEGORIES:Auftritt
CLASS:PUBLIC
DESCRIPTION:
DTSTART:20090428T220000Z
DTEND:20090428T220000Z
GEO:00;0
LOCATION:club orange\, vh ulm\, Kornhausplatz 4
ORGANIZER:
SEQUENCE:1
SUMMARY:Ulm gegen Rechts
TRANSP:OPAQUE
URL:http://www.weiberxxang.de/index.php/archives/17-ulm-gegen-rechts/2009-0
 4-29-00-00
END:VEVENT
END:VCALENDAR
